BEGIN:VCALENDAR
VERSION:2.0
PRODID:-//A Deaux Mi No - ECPv5.1.2.1//NONSGML v1.0//EN
CALSCALE:GREGORIAN
METHOD:PUBLISH
X-WR-CALNAME:A Deaux Mi No
X-ORIGINAL-URL:https://adeauxmino.fr
X-WR-CALDESC:Évènements pour A Deaux Mi No
BEGIN:VTIMEZONE
TZID:Europe/Paris
BEGIN:DAYLIGHT
TZOFFSETFROM:+0100
TZOFFSETTO:+0200
TZNAME:CEST
DTSTART:20210328T010000
END:DAYLIGHT
BEGIN:STANDARD
TZOFFSETFROM:+0200
TZOFFSETTO:+0100
TZNAME:CET
DTSTART:20211031T010000
END:STANDARD
END:VTIMEZONE
BEGIN:VEVENT
DTSTART;TZID=Europe/Paris:20210911T093000
DTEND;TZID=Europe/Paris:20210911T123000
DTSTAMP:20260425T122421
CREATED:20210830T092420Z
LAST-MODIFIED:20210830T092420Z
UID:1319-1631352600-1631363400@adeauxmino.fr
SUMMARY:journée inscription
DESCRIPTION:journée inscription\n
URL:https://adeauxmino.fr/agenda/journee-inscription/
LOCATION:Rue de L’Horloge DEAUX\, Rue de l'Horloge\, Deaux\, 30360
ORGANIZER;CN="Association%20A%20Deaux%20Mi%20No":MAILTO:adeauxmino@orange.fr
END:VEVENT
BEGIN:VEVENT
DTSTART;TZID=Europe/Paris:20210916T193000
DTEND;TZID=Europe/Paris:20210916T220000
DTSTAMP:20260425T122421
CREATED:20210909T160017Z
LAST-MODIFIED:20210909T160017Z
UID:1342-1631820600-1631829600@adeauxmino.fr
SUMMARY:Reprise Ateliers oenologie
DESCRIPTION:
URL:https://adeauxmino.fr/agenda/reprise-ateliers-oenologie/
LOCATION:Rue de L’Horloge DEAUX\, Rue de l'Horloge\, Deaux\, 30360
ORGANIZER;CN="Association%20A%20Deaux%20Mi%20No":MAILTO:adeauxmino@orange.fr
END:VEVENT
BEGIN:VEVENT
DTSTART;TZID=Europe/Paris:20210926T093000
DTEND;TZID=Europe/Paris:20210926T120000
DTSTAMP:20260425T122421
CREATED:20210920T082210Z
LAST-MODIFIED:20210920T082210Z
UID:1354-1632648600-1632657600@adeauxmino.fr
SUMMARY:Marche nordique
DESCRIPTION:Bruno vous attend au foyer communal pour la 1ere séance de la saison! \n
URL:https://adeauxmino.fr/agenda/marche-nordique/
LOCATION:foyer communal à Deaux
ORGANIZER;CN="Association%20A%20Deaux%20Mi%20No":MAILTO:adeauxmino@orange.fr
END:VEVENT
END:VCALENDAR