BEGIN:VCALENDAR
VERSION:2.0
PRODID:-//A Deaux Mi No - ECPv5.1.2.1//NONSGML v1.0//EN
CALSCALE:GREGORIAN
METHOD:PUBLISH
X-WR-CALNAME:A Deaux Mi No
X-ORIGINAL-URL:https://adeauxmino.fr
X-WR-CALDESC:Évènements pour A Deaux Mi No
BEGIN:VTIMEZONE
TZID:Europe/Paris
BEGIN:DAYLIGHT
TZOFFSETFROM:+0100
TZOFFSETTO:+0200
TZNAME:CEST
DTSTART:20220327T010000
END:DAYLIGHT
BEGIN:STANDARD
TZOFFSETFROM:+0200
TZOFFSETTO:+0100
TZNAME:CET
DTSTART:20221030T010000
END:STANDARD
END:VTIMEZONE
BEGIN:VEVENT
DTSTART;TZID=Europe/Paris:20220312T140000
DTEND;TZID=Europe/Paris:20220312T210000
DTSTAMP:20260425T013311
CREATED:20220224T093843Z
LAST-MODIFIED:20220224T094049Z
UID:1399-1647093600-1647118800@adeauxmino.fr
SUMMARY:Après midi récréative
DESCRIPTION:Tarif : entrée gratuite\, petite restauration sur place. \nvenez vous amusez avec nous\, au foyer communal de Deaux\, de 14h à 21h. \naffiche\n
URL:https://adeauxmino.fr/agenda/apres-midi-recreative/
LOCATION:foyer communal à Deaux
ORGANIZER;CN="Association%20A%20Deaux%20Mi%20No":MAILTO:adeauxmino@orange.fr
END:VEVENT
END:VCALENDAR