BEGIN:VCALENDAR
VERSION:2.0
PRODID:-//A Deaux Mi No - ECPv5.1.2.1//NONSGML v1.0//EN
CALSCALE:GREGORIAN
METHOD:PUBLISH
X-WR-CALNAME:A Deaux Mi No
X-ORIGINAL-URL:https://adeauxmino.fr
X-WR-CALDESC:Évènements pour A Deaux Mi No
BEGIN:VTIMEZONE
TZID:Europe/Paris
BEGIN:DAYLIGHT
TZOFFSETFROM:+0100
TZOFFSETTO:+0200
TZNAME:CEST
DTSTART:20230326T010000
END:DAYLIGHT
BEGIN:STANDARD
TZOFFSETFROM:+0200
TZOFFSETTO:+0100
TZNAME:CET
DTSTART:20231029T010000
END:STANDARD
END:VTIMEZONE
BEGIN:VEVENT
DTSTART;TZID=Europe/Paris:20230311T140000
DTEND;TZID=Europe/Paris:20230311T210000
DTSTAMP:20260424T052439
CREATED:20230310T095240Z
LAST-MODIFIED:20230310T095522Z
UID:1462-1678543200-1678568400@adeauxmino.fr
SUMMARY:Après midi récréative
DESCRIPTION:Tarif : entrée gratuite\, petite restauration sur place. \nvenez vous amusez avec nous\, au foyer communal de Deaux\, de 14h à 21h. \naffiche\n  \n
URL:https://adeauxmino.fr/agenda/apres-midi-recreative-2/
LOCATION:foyer communal à Deaux
ORGANIZER;CN="Association%20A%20Deaux%20Mi%20No":MAILTO:adeauxmino@orange.fr
END:VEVENT
END:VCALENDAR