BEGIN:VCALENDAR
VERSION:2.0
PRODID:-//A Deaux Mi No - ECPv5.1.2.1//NONSGML v1.0//EN
CALSCALE:GREGORIAN
METHOD:PUBLISH
X-WR-CALNAME:A Deaux Mi No
X-ORIGINAL-URL:https://adeauxmino.fr
X-WR-CALDESC:Évènements pour A Deaux Mi No
BEGIN:VTIMEZONE
TZID:Europe/Paris
BEGIN:DAYLIGHT
TZOFFSETFROM:+0100
TZOFFSETTO:+0200
TZNAME:CEST
DTSTART:20210328T010000
END:DAYLIGHT
BEGIN:STANDARD
TZOFFSETFROM:+0200
TZOFFSETTO:+0100
TZNAME:CET
DTSTART:20211031T010000
END:STANDARD
END:VTIMEZONE
BEGIN:VEVENT
DTSTART;TZID=Europe/Paris:20211212T093000
DTEND;TZID=Europe/Paris:20211212T120000
DTSTAMP:20260420T113520
CREATED:20211201T092957Z
LAST-MODIFIED:20211201T092957Z
UID:1377-1639301400-1639310400@adeauxmino.fr
SUMMARY:Marche rapide/nordique
DESCRIPTION:Bruno vous attend au foyer communal de Deaux pour une nouvelle séance. \nSortie autour de Deaux et Vézenobres\, rendez vous au foyer de Deaux.\nC’est une marche sportive et il faut venir avec l’équipement nécessaire (baskets\, vêtements de sport) et les bâtons (type marche nordique)\nVous pouvez venir faire une séance d’essai mais le matériel est à acquérir après la séance d’essai. \nAccessible à tous. \n
URL:https://adeauxmino.fr/agenda/marche-rapide-nordique-2/
LOCATION:foyer communal à Deaux
ORGANIZER;CN="Association%20A%20Deaux%20Mi%20No":MAILTO:adeauxmino@orange.fr
END:VEVENT
END:VCALENDAR